BEGIN:VCALENDAR
VERSION:2.0
PRODID:-//Drupal iCal API//EN
X-WR-TIMEZONE:America/Vancouver
BEGIN:VTIMEZONE
TZID:America/Vancouver
X-LIC-LOCATION:America/Vancouver
BEGIN:DAYLIGHT
TZNAME:PDT
TZOFFSETFROM:-0800
TZOFFSETTO:-0700
DTSTART:20260308T100000
END:DAYLIGHT
BEGIN:DAYLIGHT
TZNAME:PDT
TZOFFSETFROM:-0800
TZOFFSETTO:-0700
DTSTART:20250309T100000
END:DAYLIGHT
BEGIN:STANDARD
TZNAME:PST
TZOFFSETFROM:-0700
TZOFFSETTO:-0800
DTSTART:20251102T090000
END:STANDARD
BEGIN:STANDARD
TZNAME:PST
TZOFFSETFROM:-0700
TZOFFSETTO:-0800
DTSTART:20241103T090000
END:STANDARD
END:VTIMEZONE
BEGIN:VEVENT
UID:69e7770a3bddd
DTSTART;VALUE=DATE:20260422
SEQUENCE:0
TRANSP:TRANSPARENT
DTEND;VALUE=DATE:20260423
URL:https://johnmaclure.abbyschools.ca/events/administrative-assistant-day-
 1
SUMMARY:ADMINISTRATIVE ASSISTANT DAY
CLASS:PUBLIC
X-MICROSOFT-CDO-ALLDAYEVENT:TRUE
DTSTAMP:20260421T130930Z
END:VEVENT
BEGIN:VEVENT
UID:69e7770a400f9
DTSTART;VALUE=DATE:20260415
SEQUENCE:0
TRANSP:TRANSPARENT
DTEND;VALUE=DATE:20260416
URL:https://johnmaclure.abbyschools.ca/events/vaisakhi-celebration-2
SUMMARY:VAISAKHI CELEBRATION!
CLASS:PUBLIC
X-MICROSOFT-CDO-ALLDAYEVENT:TRUE
DTSTAMP:20260421T130930Z
END:VEVENT
BEGIN:VEVENT
UID:69e7770a41b2f
DTSTART;VALUE=DATE:20260417
SEQUENCE:0
TRANSP:TRANSPARENT
DTEND;VALUE=DATE:20260418
URL:https://johnmaclure.abbyschools.ca/events/vaisakhi-hot-lunch-0
SUMMARY:VAISAKHI HOT LUNCH
CLASS:PUBLIC
X-MICROSOFT-CDO-ALLDAYEVENT:TRUE
DTSTAMP:20260421T130930Z
END:VEVENT
BEGIN:VEVENT
UID:69e7770a43065
DTSTART;VALUE=DATE:20260429
SEQUENCE:0
TRANSP:TRANSPARENT
DTEND;VALUE=DATE:20260430
URL:https://johnmaclure.abbyschools.ca/events/entrepreneur-fair-4
SUMMARY:ENTREPRENEUR FAIR
CLASS:PUBLIC
X-MICROSOFT-CDO-ALLDAYEVENT:TRUE
DTSTAMP:20260421T130930Z
END:VEVENT
BEGIN:VEVENT
UID:69e7770a44529
DTSTART;TZID=America/Vancouver:20260423T150000
SEQUENCE:0
TRANSP:TRANSPARENT
DTEND;TZID=America/Vancouver:20260423T170000
URL:https://johnmaclure.abbyschools.ca/events/ready-set-learn-38
SUMMARY:READY SET LEARN
CLASS:PUBLIC
DTSTAMP:20260421T130930Z
END:VEVENT
BEGIN:VEVENT
UID:69e7770a45d0c
DTSTART;VALUE=DATE:20260422
SEQUENCE:0
TRANSP:TRANSPARENT
DTEND;VALUE=DATE:20260423
URL:https://johnmaclure.abbyschools.ca/events/earth-day-colours
SUMMARY:EARTH DAY COLOURS
CLASS:PUBLIC
X-MICROSOFT-CDO-ALLDAYEVENT:TRUE
DTSTAMP:20260421T130930Z
END:VEVENT
BEGIN:VEVENT
UID:69e7770a4737c
DTSTART;VALUE=DATE:20260410
SEQUENCE:0
TRANSP:TRANSPARENT
DTEND;VALUE=DATE:20260411
URL:https://johnmaclure.abbyschools.ca/events/popcorn-day-101
SUMMARY:POPCORN DAY!
CLASS:PUBLIC
X-MICROSOFT-CDO-ALLDAYEVENT:TRUE
DTSTAMP:20260421T130930Z
END:VEVENT
BEGIN:VEVENT
UID:69e7770a4875d
DTSTART;VALUE=DATE:20260410
SEQUENCE:0
TRANSP:TRANSPARENT
DTEND;VALUE=DATE:20260411
URL:https://johnmaclure.abbyschools.ca/events/neon-colours-day
SUMMARY:NEON COLOURS DAY
CLASS:PUBLIC
X-MICROSOFT-CDO-ALLDAYEVENT:TRUE
DTSTAMP:20260421T130930Z
END:VEVENT
BEGIN:VEVENT
UID:69e7770a49af4
DTSTART;VALUE=DATE:20260330
SEQUENCE:0
TRANSP:TRANSPARENT
DTEND;VALUE=DATE:20260331
URL:https://johnmaclure.abbyschools.ca/events/welcome-back
SUMMARY:WELCOME BACK!
CLASS:PUBLIC
X-MICROSOFT-CDO-ALLDAYEVENT:TRUE
DTSTAMP:20260421T130930Z
END:VEVENT
BEGIN:VEVENT
UID:69e7770a4b84f
DTSTART;VALUE=DATE:20260313
SEQUENCE:0
TRANSP:TRANSPARENT
DTEND;VALUE=DATE:20260421
URL:https://johnmaclure.abbyschools.ca/events/summer-explorers-gr-k-8-regis
 tration-2026
SUMMARY:SUMMER EXPLORERS GR. K-8 REGISTRATION 2026
CLASS:PUBLIC
X-MICROSOFT-CDO-ALLDAYEVENT:TRUE
DTSTAMP:20260421T130930Z
END:VEVENT
BEGIN:VEVENT
UID:69e7770a4d9e6
DTSTART;TZID=America/Vancouver:20260402T173000
SEQUENCE:0
TRANSP:TRANSPARENT
DTEND;TZID=America/Vancouver:20260402T183000
URL:https://johnmaclure.abbyschools.ca/events/public-budget-information-nig
 ht
SUMMARY:PUBLIC BUDGET INFORMATION NIGHT
CLASS:PUBLIC
DTSTAMP:20260421T130930Z
END:VEVENT
BEGIN:VEVENT
UID:69e7770a4fae0
DTSTART;VALUE=DATE:20260308
SEQUENCE:0
TRANSP:TRANSPARENT
DTEND;VALUE=DATE:20260309
URL:https://johnmaclure.abbyschools.ca/events/daylight-savings-2
SUMMARY:DAYLIGHT SAVINGS
CLASS:PUBLIC
X-MICROSOFT-CDO-ALLDAYEVENT:TRUE
DTSTAMP:20260421T130930Z
END:VEVENT
BEGIN:VEVENT
UID:69e7770a51962
DTSTART;VALUE=DATE:20260308
SEQUENCE:0
TRANSP:TRANSPARENT
DTEND;VALUE=DATE:20260309
URL:https://johnmaclure.abbyschools.ca/events/last-day-order-hot-lunch-12
SUMMARY:LAST DAY TO ORDER HOT LUNCH
CLASS:PUBLIC
X-MICROSOFT-CDO-ALLDAYEVENT:TRUE
DTSTAMP:20260421T130930Z
END:VEVENT
BEGIN:VEVENT
UID:69e7770a53822
DTSTART;VALUE=DATE:20260312
SEQUENCE:0
TRANSP:TRANSPARENT
DTEND;VALUE=DATE:20260313
URL:https://johnmaclure.abbyschools.ca/events/pizza-hut-hot-lunch-13
SUMMARY:PIZZA HUT HOT LUNCH
CLASS:PUBLIC
X-MICROSOFT-CDO-ALLDAYEVENT:TRUE
DTSTAMP:20260421T130930Z
END:VEVENT
BEGIN:VEVENT
UID:69e7770a558de
DTSTART;VALUE=DATE:20260313
SEQUENCE:0
TRANSP:TRANSPARENT
DTEND;VALUE=DATE:20260314
URL:https://johnmaclure.abbyschools.ca/events/pajama-day-15
SUMMARY:PAJAMA DAY!
CLASS:PUBLIC
X-MICROSOFT-CDO-ALLDAYEVENT:TRUE
DTSTAMP:20260421T130930Z
END:VEVENT
BEGIN:VEVENT
UID:69e7770a57f23
DTSTART;VALUE=DATE:20260310
SEQUENCE:0
TRANSP:TRANSPARENT
DTEND;VALUE=DATE:20260311
URL:https://johnmaclure.abbyschools.ca/events/mario-day-0
SUMMARY:MARIO DAY!
CLASS:PUBLIC
X-MICROSOFT-CDO-ALLDAYEVENT:TRUE
DTSTAMP:20260421T130930Z
END:VEVENT
BEGIN:VEVENT
UID:69e7770a599da
DTSTART;VALUE=DATE:20260225
SEQUENCE:0
TRANSP:TRANSPARENT
DTEND;VALUE=DATE:20260226
URL:https://johnmaclure.abbyschools.ca/events/pink-shirt-day-44
SUMMARY:PINK SHIRT DAY
CLASS:PUBLIC
X-MICROSOFT-CDO-ALLDAYEVENT:TRUE
DTSTAMP:20260421T130930Z
END:VEVENT
BEGIN:VEVENT
UID:69e7770a5aed8
DTSTART;TZID=America/Vancouver:20260511T190000
SEQUENCE:0
TRANSP:TRANSPARENT
DTEND;TZID=America/Vancouver:20260511T210000
URL:https://johnmaclure.abbyschools.ca/events/exploring-feel-better-dr-shah
 ana-alibhai
SUMMARY:EXPLORING \"FEEL BETTER\" WITH DR. SHAHANA ALIBHAI
CLASS:PUBLIC
DTSTAMP:20260421T130930Z
END:VEVENT
BEGIN:VEVENT
UID:69e7770a60da1
DTSTART;TZID=America/Vancouver:20260408T183000
SEQUENCE:0
TRANSP:TRANSPARENT
DTEND;TZID=America/Vancouver:20260408T210000
URL:https://johnmaclure.abbyschools.ca/events/study-smarter-not-harder-your
 -brain-mind-terry-small
SUMMARY:\"STUDY SMARTER\, NOT HARDER… WITH YOUR BRAIN IN MIND” - TERRY 
 SMALL
CLASS:PUBLIC
DTSTAMP:20260421T130930Z
END:VEVENT
BEGIN:VEVENT
UID:69e7770a62ce3
DTSTART;TZID=America/Vancouver:20260223T190000
SEQUENCE:0
TRANSP:TRANSPARENT
DTEND;TZID=America/Vancouver:20260223T210000
URL:https://johnmaclure.abbyschools.ca/events/bullying-new-approach-endurin
 g-problem-deborah-macnamara
SUMMARY:\"BULLYING - A NEW APPROACH TO AN ENDURING PROBLEM\" - DEBORAH MACN
 AMARA
CLASS:PUBLIC
DTSTAMP:20260421T130930Z
END:VEVENT
BEGIN:VEVENT
UID:69e7770a646df
DTSTART;VALUE=DATE:20260626
SEQUENCE:0
TRANSP:TRANSPARENT
DTEND;VALUE=DATE:20260627
URL:https://johnmaclure.abbyschools.ca/events/last-day-teachers-1
SUMMARY:LAST DAY FOR TEACHERS
CLASS:PUBLIC
X-MICROSOFT-CDO-ALLDAYEVENT:TRUE
DTSTAMP:20260421T130930Z
END:VEVENT
BEGIN:VEVENT
UID:69e7770a66544
DTSTART;VALUE=DATE:20260625
SEQUENCE:0
TRANSP:TRANSPARENT
DTEND;VALUE=DATE:20260626
URL:https://johnmaclure.abbyschools.ca/events/last-day-students-1
SUMMARY:LAST DAY FOR STUDENTS
CLASS:PUBLIC
X-MICROSOFT-CDO-ALLDAYEVENT:TRUE
DTSTAMP:20260421T130930Z
END:VEVENT
BEGIN:VEVENT
UID:69e7770a67d1f
DTSTART;VALUE=DATE:20260316
SEQUENCE:0
TRANSP:TRANSPARENT
DTEND;VALUE=DATE:20260328
URL:https://johnmaclure.abbyschools.ca/events/spring-break-4
SUMMARY:SPRING BREAK
CLASS:PUBLIC
X-MICROSOFT-CDO-ALLDAYEVENT:TRUE
DTSTAMP:20260421T130930Z
END:VEVENT
BEGIN:VEVENT
UID:69e7770a695b5
DTSTART;VALUE=DATE:20251217
SEQUENCE:0
TRANSP:TRANSPARENT
DTEND;VALUE=DATE:20251218
URL:https://johnmaclure.abbyschools.ca/events/report-cards-elemmiddle-level
 s-3
SUMMARY:REPORT CARDS ELEM/MIDDLE LEVELS
CLASS:PUBLIC
X-MICROSOFT-CDO-ALLDAYEVENT:TRUE
DTSTAMP:20260421T130930Z
END:VEVENT
BEGIN:VEVENT
UID:69e7770a6ac83
DTSTART;VALUE=DATE:20260313
SEQUENCE:0
TRANSP:TRANSPARENT
DTEND;VALUE=DATE:20260314
URL:https://johnmaclure.abbyschools.ca/events/report-cards-elemmiddle-level
 s-3
SUMMARY:REPORT CARDS ELEM/MIDDLE LEVELS
CLASS:PUBLIC
X-MICROSOFT-CDO-ALLDAYEVENT:TRUE
DTSTAMP:20260421T130930Z
END:VEVENT
BEGIN:VEVENT
UID:69e7770a6cd85
DTSTART;VALUE=DATE:20260625
SEQUENCE:0
TRANSP:TRANSPARENT
DTEND;VALUE=DATE:20260626
URL:https://johnmaclure.abbyschools.ca/events/report-cards-elemmiddle-level
 s-3
SUMMARY:REPORT CARDS ELEM/MIDDLE LEVELS
CLASS:PUBLIC
X-MICROSOFT-CDO-ALLDAYEVENT:TRUE
DTSTAMP:20260421T130930Z
END:VEVENT
BEGIN:VEVENT
UID:69e7770a6e556
DTSTART;VALUE=DATE:20251217
SEQUENCE:0
TRANSP:TRANSPARENT
DTEND;VALUE=DATE:20251218
URL:https://johnmaclure.abbyschools.ca/events/report-cards-elemmiddle-level
 s-3
SUMMARY:REPORT CARDS ELEM/MIDDLE LEVELS
CLASS:PUBLIC
X-MICROSOFT-CDO-ALLDAYEVENT:TRUE
DTSTAMP:20260421T130930Z
END:VEVENT
BEGIN:VEVENT
UID:69e7770a6feab
DTSTART;VALUE=DATE:20260313
SEQUENCE:0
TRANSP:TRANSPARENT
DTEND;VALUE=DATE:20260314
URL:https://johnmaclure.abbyschools.ca/events/report-cards-elemmiddle-level
 s-3
SUMMARY:REPORT CARDS ELEM/MIDDLE LEVELS
CLASS:PUBLIC
X-MICROSOFT-CDO-ALLDAYEVENT:TRUE
DTSTAMP:20260421T130930Z
END:VEVENT
BEGIN:VEVENT
UID:69e7770a715b8
DTSTART;VALUE=DATE:20260625
SEQUENCE:0
TRANSP:TRANSPARENT
DTEND;VALUE=DATE:20260626
URL:https://johnmaclure.abbyschools.ca/events/report-cards-elemmiddle-level
 s-3
SUMMARY:REPORT CARDS ELEM/MIDDLE LEVELS
CLASS:PUBLIC
X-MICROSOFT-CDO-ALLDAYEVENT:TRUE
DTSTAMP:20260421T130930Z
END:VEVENT
BEGIN:VEVENT
UID:69e7770a72f4a
DTSTART;VALUE=DATE:20260515
SEQUENCE:0
TRANSP:TRANSPARENT
DTEND;VALUE=DATE:20260516
URL:https://johnmaclure.abbyschools.ca/events/non-instructional-day-17
SUMMARY:NON-INSTRUCTIONAL DAY
CLASS:PUBLIC
X-MICROSOFT-CDO-ALLDAYEVENT:TRUE
DTSTAMP:20260421T130930Z
END:VEVENT
BEGIN:VEVENT
UID:69e7770a751ca
DTSTART;VALUE=DATE:20260424
SEQUENCE:0
TRANSP:TRANSPARENT
DTEND;VALUE=DATE:20260425
URL:https://johnmaclure.abbyschools.ca/events/non-instructional-day-16
SUMMARY:NON-INSTRUCTIONAL DAY
CLASS:PUBLIC
X-MICROSOFT-CDO-ALLDAYEVENT:TRUE
DTSTAMP:20260421T130930Z
END:VEVENT
BEGIN:VEVENT
UID:69e7770a77011
DTSTART;TZID=America/Vancouver:20250925T190000
SEQUENCE:0
TRANSP:TRANSPARENT
DTEND;TZID=America/Vancouver:20250925T200000
URL:https://johnmaclure.abbyschools.ca/events/dpac-meeting-7
SUMMARY:DPAC MEETING
CLASS:PUBLIC
DTSTAMP:20260421T130930Z
END:VEVENT
BEGIN:VEVENT
UID:69e7770a78cc0
DTSTART;TZID=America/Vancouver:20251023T190000
SEQUENCE:0
TRANSP:TRANSPARENT
DTEND;TZID=America/Vancouver:20251023T190000
URL:https://johnmaclure.abbyschools.ca/events/dpac-meeting-7
SUMMARY:DPAC MEETING
CLASS:PUBLIC
DTSTAMP:20260421T130930Z
END:VEVENT
BEGIN:VEVENT
UID:69e7770a7a8ec
DTSTART;TZID=America/Vancouver:20251127T190000
SEQUENCE:0
TRANSP:TRANSPARENT
DTEND;TZID=America/Vancouver:20251127T190000
URL:https://johnmaclure.abbyschools.ca/events/dpac-meeting-7
SUMMARY:DPAC MEETING
CLASS:PUBLIC
DTSTAMP:20260421T130930Z
END:VEVENT
BEGIN:VEVENT
UID:69e7770a7bed1
DTSTART;TZID=America/Vancouver:20260122T190000
SEQUENCE:0
TRANSP:TRANSPARENT
DTEND;TZID=America/Vancouver:20260122T200000
URL:https://johnmaclure.abbyschools.ca/events/dpac-meeting-7
SUMMARY:DPAC MEETING
CLASS:PUBLIC
DTSTAMP:20260421T130930Z
END:VEVENT
BEGIN:VEVENT
UID:69e7770a7d8b9
DTSTART;TZID=America/Vancouver:20260226T190000
SEQUENCE:0
TRANSP:TRANSPARENT
DTEND;TZID=America/Vancouver:20260226T190000
URL:https://johnmaclure.abbyschools.ca/events/dpac-meeting-7
SUMMARY:DPAC MEETING
CLASS:PUBLIC
DTSTAMP:20260421T130930Z
END:VEVENT
BEGIN:VEVENT
UID:69e7770a7f7a9
DTSTART;TZID=America/Vancouver:20260423T190000
SEQUENCE:0
TRANSP:TRANSPARENT
DTEND;TZID=America/Vancouver:20260423T190000
URL:https://johnmaclure.abbyschools.ca/events/dpac-meeting-7
SUMMARY:DPAC MEETING
CLASS:PUBLIC
DTSTAMP:20260421T130930Z
END:VEVENT
BEGIN:VEVENT
UID:69e7770a80d96
DTSTART;TZID=America/Vancouver:20260528T190000
SEQUENCE:0
TRANSP:TRANSPARENT
DTEND;TZID=America/Vancouver:20260528T190000
URL:https://johnmaclure.abbyschools.ca/events/dpac-meeting-7
SUMMARY:DPAC MEETING
CLASS:PUBLIC
DTSTAMP:20260421T130930Z
END:VEVENT
BEGIN:VEVENT
UID:69e7770a83816
DTSTART;TZID=America/Vancouver:20250925T190000
SEQUENCE:0
TRANSP:TRANSPARENT
DTEND;TZID=America/Vancouver:20250925T200000
URL:https://johnmaclure.abbyschools.ca/events/dpac-meeting-7
SUMMARY:DPAC MEETING
CLASS:PUBLIC
DTSTAMP:20260421T130930Z
END:VEVENT
BEGIN:VEVENT
UID:69e7770a84cba
DTSTART;TZID=America/Vancouver:20251023T190000
SEQUENCE:0
TRANSP:TRANSPARENT
DTEND;TZID=America/Vancouver:20251023T190000
URL:https://johnmaclure.abbyschools.ca/events/dpac-meeting-7
SUMMARY:DPAC MEETING
CLASS:PUBLIC
DTSTAMP:20260421T130930Z
END:VEVENT
BEGIN:VEVENT
UID:69e7770a85f0c
DTSTART;TZID=America/Vancouver:20251127T190000
SEQUENCE:0
TRANSP:TRANSPARENT
DTEND;TZID=America/Vancouver:20251127T190000
URL:https://johnmaclure.abbyschools.ca/events/dpac-meeting-7
SUMMARY:DPAC MEETING
CLASS:PUBLIC
DTSTAMP:20260421T130930Z
END:VEVENT
BEGIN:VEVENT
UID:69e7770a872cb
DTSTART;TZID=America/Vancouver:20260122T190000
SEQUENCE:0
TRANSP:TRANSPARENT
DTEND;TZID=America/Vancouver:20260122T200000
URL:https://johnmaclure.abbyschools.ca/events/dpac-meeting-7
SUMMARY:DPAC MEETING
CLASS:PUBLIC
DTSTAMP:20260421T130930Z
END:VEVENT
BEGIN:VEVENT
UID:69e7770a8864b
DTSTART;TZID=America/Vancouver:20260226T190000
SEQUENCE:0
TRANSP:TRANSPARENT
DTEND;TZID=America/Vancouver:20260226T190000
URL:https://johnmaclure.abbyschools.ca/events/dpac-meeting-7
SUMMARY:DPAC MEETING
CLASS:PUBLIC
DTSTAMP:20260421T130930Z
END:VEVENT
BEGIN:VEVENT
UID:69e7770a899ca
DTSTART;TZID=America/Vancouver:20260423T190000
SEQUENCE:0
TRANSP:TRANSPARENT
DTEND;TZID=America/Vancouver:20260423T190000
URL:https://johnmaclure.abbyschools.ca/events/dpac-meeting-7
SUMMARY:DPAC MEETING
CLASS:PUBLIC
DTSTAMP:20260421T130930Z
END:VEVENT
BEGIN:VEVENT
UID:69e7770a8b09f
DTSTART;TZID=America/Vancouver:20260528T190000
SEQUENCE:0
TRANSP:TRANSPARENT
DTEND;TZID=America/Vancouver:20260528T190000
URL:https://johnmaclure.abbyschools.ca/events/dpac-meeting-7
SUMMARY:DPAC MEETING
CLASS:PUBLIC
DTSTAMP:20260421T130930Z
END:VEVENT
BEGIN:VEVENT
UID:69e7770a8c522
DTSTART;TZID=America/Vancouver:20250925T190000
SEQUENCE:0
TRANSP:TRANSPARENT
DTEND;TZID=America/Vancouver:20250925T200000
URL:https://johnmaclure.abbyschools.ca/events/dpac-meeting-7
SUMMARY:DPAC MEETING
CLASS:PUBLIC
DTSTAMP:20260421T130930Z
END:VEVENT
BEGIN:VEVENT
UID:69e7770a8db6c
DTSTART;TZID=America/Vancouver:20251023T190000
SEQUENCE:0
TRANSP:TRANSPARENT
DTEND;TZID=America/Vancouver:20251023T190000
URL:https://johnmaclure.abbyschools.ca/events/dpac-meeting-7
SUMMARY:DPAC MEETING
CLASS:PUBLIC
DTSTAMP:20260421T130930Z
END:VEVENT
BEGIN:VEVENT
UID:69e7770a8f159
DTSTART;TZID=America/Vancouver:20251127T190000
SEQUENCE:0
TRANSP:TRANSPARENT
DTEND;TZID=America/Vancouver:20251127T190000
URL:https://johnmaclure.abbyschools.ca/events/dpac-meeting-7
SUMMARY:DPAC MEETING
CLASS:PUBLIC
DTSTAMP:20260421T130930Z
END:VEVENT
BEGIN:VEVENT
UID:69e7770a90659
DTSTART;TZID=America/Vancouver:20260122T190000
SEQUENCE:0
TRANSP:TRANSPARENT
DTEND;TZID=America/Vancouver:20260122T200000
URL:https://johnmaclure.abbyschools.ca/events/dpac-meeting-7
SUMMARY:DPAC MEETING
CLASS:PUBLIC
DTSTAMP:20260421T130930Z
END:VEVENT
BEGIN:VEVENT
UID:69e7770a91b34
DTSTART;TZID=America/Vancouver:20260226T190000
SEQUENCE:0
TRANSP:TRANSPARENT
DTEND;TZID=America/Vancouver:20260226T190000
URL:https://johnmaclure.abbyschools.ca/events/dpac-meeting-7
SUMMARY:DPAC MEETING
CLASS:PUBLIC
DTSTAMP:20260421T130930Z
END:VEVENT
BEGIN:VEVENT
UID:69e7770a92fc0
DTSTART;TZID=America/Vancouver:20260423T190000
SEQUENCE:0
TRANSP:TRANSPARENT
DTEND;TZID=America/Vancouver:20260423T190000
URL:https://johnmaclure.abbyschools.ca/events/dpac-meeting-7
SUMMARY:DPAC MEETING
CLASS:PUBLIC
DTSTAMP:20260421T130930Z
END:VEVENT
BEGIN:VEVENT
UID:69e7770a94407
DTSTART;TZID=America/Vancouver:20260528T190000
SEQUENCE:0
TRANSP:TRANSPARENT
DTEND;TZID=America/Vancouver:20260528T190000
URL:https://johnmaclure.abbyschools.ca/events/dpac-meeting-7
SUMMARY:DPAC MEETING
CLASS:PUBLIC
DTSTAMP:20260421T130930Z
END:VEVENT
BEGIN:VEVENT
UID:69e7770a95751
DTSTART;VALUE=DATE:20260518
SEQUENCE:0
TRANSP:TRANSPARENT
DTEND;VALUE=DATE:20260519
URL:https://johnmaclure.abbyschools.ca/events/victoria-day-3
SUMMARY:VICTORIA DAY
CLASS:PUBLIC
X-MICROSOFT-CDO-ALLDAYEVENT:TRUE
DTSTAMP:20260421T130930Z
END:VEVENT
BEGIN:VEVENT
UID:69e7770a96e9f
DTSTART;VALUE=DATE:20260403
SEQUENCE:0
TRANSP:TRANSPARENT
DTEND;VALUE=DATE:20260407
URL:https://johnmaclure.abbyschools.ca/events/easter-weekend
SUMMARY:EASTER WEEKEND
CLASS:PUBLIC
X-MICROSOFT-CDO-ALLDAYEVENT:TRUE
DTSTAMP:20260421T130930Z
END:VEVENT
BEGIN:VEVENT
UID:69e7770a98d10
DTSTART;VALUE=DATE:20250701
SEQUENCE:0
TRANSP:TRANSPARENT
DTEND;VALUE=DATE:20250702
URL:https://johnmaclure.abbyschools.ca/events/canada-day-11
SUMMARY:CANADA DAY
CLASS:PUBLIC
X-MICROSOFT-CDO-ALLDAYEVENT:TRUE
DTSTAMP:20260421T130930Z
END:VEVENT
BEGIN:VEVENT
UID:69e7770a9a073
DTSTART;VALUE=DATE:20260701
SEQUENCE:0
TRANSP:TRANSPARENT
DTEND;VALUE=DATE:20260702
URL:https://johnmaclure.abbyschools.ca/events/canada-day-11
SUMMARY:CANADA DAY
CLASS:PUBLIC
X-MICROSOFT-CDO-ALLDAYEVENT:TRUE
DTSTAMP:20260421T130930Z
END:VEVENT
END:VCALENDAR